BEGIN:VCALENDAR
VERSION:2.0
PRODID:-//eventon.com NONSGML v1.0//EN
CALSCALE:GREGORIAN
METHOD:PUBLISH
BEGIN:VEVENT
UID:69e4f73beb65a
DTSTAMP:20260419T153939Z
DTSTART:20260403T213000Z
DTEND:20260403T233000Z
LOCATION:Castro's Lounge 2116 Queen St E\,  Toronto\,  ON M4E 1E2
SUMMARY:Fraser / Daley / Cross
DESCRIPTION:A popular concert and recording act for over 14 years\,  Toront
 o-based Fraser/Daley has released three CDs of original music and performed
  widely\,  consistently entertaining audiences with their large and varied 
 repertoire\,  big sound and spontaneous sense of fun. Alec Fraser hails fro
 m Glasgow\,  Scotland and is a respected bassist and[..]\nhttps://jazzintor
 onto.ca/events/fraser-daley-cross/
URL:https://jazzintoronto.ca/events/fraser-daley-cross/
END:VEVENT
END:VCALENDAR