BEGIN:VCALENDAR
VERSION:2.0
PRODID:-//eventon.com NONSGML v1.0//EN
CALSCALE:GREGORIAN
METHOD:PUBLISH
BEGIN:VEVENT
UID:69e515678028f
DTSTAMP:20260419T174823Z
DTSTART:20260415T013000Z
DTEND:20260415T035900Z
LOCATION:The Bell &amp; Beacon 1648 1/2 Queen St W\,  Toronto\,  ON M6R 1B2
SUMMARY:The Tone Rangers
DESCRIPTION:The Tone Rangers\nhttps://jazzintoronto.ca/events/the-tone-rang
 ers-2/var/ri-2.l-L1
URL:https://jazzintoronto.ca/events/the-tone-rangers-2/var/ri-2.l-L1
END:VEVENT
END:VCALENDAR