BEGIN:VCALENDAR
VERSION:2.0
PRODID:-//eventon.com NONSGML v1.0//EN
CALSCALE:GREGORIAN
METHOD:PUBLISH
BEGIN:VEVENT
UID:69e4fb6a439bc
DTSTAMP:20260419T155730Z
DTSTART:20260408T013000Z
DTEND:20260408T035900Z
LOCATION:The Bell &amp; Beacon 1648 1/2 Queen St W\,  Toronto\,  ON M6R 1B2
SUMMARY:The Tone Rangers
DESCRIPTION:The Tone Rangers\nhttps://jazzintoronto.ca/events/the-tone-rang
 ers-2/var/ri-1.l-L1
URL:https://jazzintoronto.ca/events/the-tone-rangers-2/var/ri-1.l-L1
END:VEVENT
END:VCALENDAR