BEGIN:VCALENDAR
VERSION:2.0
PRODID:-//eventon.com NONSGML v1.0//EN
CALSCALE:GREGORIAN
METHOD:PUBLISH
BEGIN:VEVENT
UID:69e4e2a623082
DTSTAMP:20260419T141150Z
DTSTART:20260401T013000Z
DTEND:20260401T035900Z
LOCATION:The Bell &amp; Beacon 1648 1/2 Queen St W\,  Toronto\,  ON M6R 1B2
SUMMARY:The Tone Rangers
DESCRIPTION:The Tone Rangers\nhttps://jazzintoronto.ca/events/the-tone-rang
 ers-2/
URL:https://jazzintoronto.ca/events/the-tone-rangers-2/
END:VEVENT
END:VCALENDAR