BEGIN:VCALENDAR
VERSION:2.0
PRODID:-//eventon.com NONSGML v1.0//EN
CALSCALE:GREGORIAN
METHOD:PUBLISH
BEGIN:VEVENT
UID:69e4cafdec26f
DTSTAMP:20260419T123053Z
DTSTART:20260531T010000Z
DTEND:20260530T050000Z
LOCATION:Grossman's Tavern 377 Spadina Ave.\,  Toronto\,  ON M5T 2G3
SUMMARY:Caution Jam
DESCRIPTION:Caution Jam\nhttps://jazzintoronto.ca/events/caution-jam-3/
URL:https://jazzintoronto.ca/events/caution-jam-3/
END:VEVENT
END:VCALENDAR