BEGIN:VCALENDAR
VERSION:2.0
PRODID:-//eventon.com NONSGML v1.0//EN
CALSCALE:GREGORIAN
METHOD:PUBLISH
BEGIN:VEVENT
UID:69e4caeb9fb7f
DTSTAMP:20260419T123035Z
DTSTART:20260502T193000Z
DTEND:20260502T230000Z
LOCATION:Grossman's Tavern 377 Spadina Ave.\,  Toronto\,  ON M5T 2G3
SUMMARY:The Happy Pals
DESCRIPTION:The Happy Pals\nhttps://jazzintoronto.ca/events/the-happy-pals/
 var/ri-5.l-L1
URL:https://jazzintoronto.ca/events/the-happy-pals/var/ri-5.l-L1
END:VEVENT
END:VCALENDAR