BEGIN:VCALENDAR
VERSION:2.0
PRODID:-//eventon.com NONSGML v1.0//EN
CALSCALE:GREGORIAN
METHOD:PUBLISH
BEGIN:VEVENT
UID:69e4c6bd86cf9
DTSTAMP:20260419T121245Z
DTSTART:20260430T160000Z
DTEND:20260501T035900Z
LOCATION:Meridian Arts Centre 5040 Yonge St\,  North York\,  ON M2N 6R8
SUMMARY:Sound Break - Nat Beja Trio
DESCRIPTION:The Nat Beja Trio is a local jazz trio that captures the golden
  era of jazz\,  along with other Latin songs influenced by Nat’s upbringi
 ng in Mexico\,  and interprets them in the style and spirit of Django Reinh
 ardt.\nhttps://jazzintoronto.ca/events/sound-break-nat-beja-trio/
URL:https://jazzintoronto.ca/events/sound-break-nat-beja-trio/
END:VEVENT
END:VCALENDAR