BEGIN:VCALENDAR
VERSION:2.0
PRODID:-//eventon.com NONSGML v1.0//EN
CALSCALE:GREGORIAN
METHOD:PUBLISH
BEGIN:VEVENT
UID:69e4da57561aa
DTSTAMP:20260419T133623Z
DTSTART:20260409T160000Z
DTEND:20260410T035900Z
LOCATION:St. Lawrence Centre for the Arts 27 Front St E\,  Toronto\,  ON M5E 1B4
SUMMARY:Sound Break - Chynna Lewis
DESCRIPTION:Chynna Lewis is a pop/R&amp;B singer-songwriter based in Toront
 o. Her most recent EP What Are Friends For was spotlighted on CBC Radio O
 ne and major international Spotify playlists. Chynna has shared the stage w
 ith artists such as Ed Sheeran and Jessie Reyez. Her debut album is set to 
 be released this summer.\nhttps://jazzintoronto.ca/events/chynna-lewis/
URL:https://jazzintoronto.ca/events/chynna-lewis/
END:VEVENT
END:VCALENDAR