BEGIN:VCALENDAR
VERSION:2.0
PRODID:-//eventon.com NONSGML v1.0//EN
CALSCALE:GREGORIAN
METHOD:PUBLISH
BEGIN:VEVENT
UID:69e4c73056840
DTSTAMP:20260419T121440Z
DTSTART:20260402T160000Z
DTEND:20260403T035900Z
LOCATION:Meridian Arts Centre 5040 Yonge St\,  North York\,  ON M2N 6R8
SUMMARY:Sound Break - Rhyan Douglas
DESCRIPTION:Rhyan Douglas makes a yearning hybrid of R&amp;B\,  folk\,  and
  soul that he pairs with lush\,  ethereal production. Based outside of Toro
 nto\,  the singer\,  songwriter\,  and guitarist collaborated with producer
 s like Wondagurl and Eli Brown ahead of his 2024 debut EP\,  Circ
 les. Raised in Brampton\,  Douglas signed with Sony while still in his teen
 s and[..]\nhttps://jazzintoronto.ca/events/rhyan-douglas/
URL:https://jazzintoronto.ca/events/rhyan-douglas/
END:VEVENT
END:VCALENDAR