BEGIN:VCALENDAR
VERSION:2.0
PRODID:-//eventon.com NONSGML v1.0//EN
CALSCALE:GREGORIAN
METHOD:PUBLISH
BEGIN:VEVENT
UID:69e4c68779928
DTSTAMP:20260419T121151Z
DTSTART:20260406T000000Z
DTEND:20260406T023000Z
LOCATION:The Emmet Ray 924 College St\,  Toronto\,  ON M6H 1A4
SUMMARY:Selena Savage Trio
DESCRIPTION:Intimate vocal jazz trio performing swinging standards and song
 book tunes. Selena Savage – vocals and trombone Jen Lo – piano Serena M
 ancuso – bass\nhttps://jazzintoronto.ca/events/selena-savage-trio/
URL:https://jazzintoronto.ca/events/selena-savage-trio/
END:VEVENT
END:VCALENDAR