BEGIN:VCALENDAR
VERSION:2.0
PRODID:-//eventon.com NONSGML v1.0//EN
CALSCALE:GREGORIAN
METHOD:PUBLISH
BEGIN:VEVENT
UID:69e4dab0bf020
DTSTAMP:20260419T133752Z
DTSTART:20260405T210000Z
DTEND:20260405T233000Z
LOCATION:The Emmet Ray 924 College St\,  Toronto\,  ON M6H 1A4
SUMMARY:BPM
DESCRIPTION:Thom Mason is a Toronto‑based jazz guitarist and University o
 f Toronto graduate whose playing blends modern edge with deep tradition. He
  has performed with international jazz icons including Dave Liebman\,  Hal 
 Galper\,  and Jerry Bergonzi\,  and has studied with more Canadian jazz gre
 ats than he can name. He has played[..]\nhttps://jazzintoronto.ca/events/bp
 m/
URL:https://jazzintoronto.ca/events/bpm/
END:VEVENT
END:VCALENDAR