BEGIN:VCALENDAR
VERSION:2.0
PRODID:-//eventon.com NONSGML v1.0//EN
CALSCALE:GREGORIAN
METHOD:PUBLISH
BEGIN:VEVENT
UID:69e4f45a6a0b2
DTSTAMP:20260419T152722Z
DTSTART:20260403T011500Z
DTEND:20260403T033000Z
LOCATION:The Emmet Ray 924 College St\,  Toronto\,  ON M6H 1A4
SUMMARY:Dante Paolo and Friends
DESCRIPTION:A spring inspired vocal jazz set featuring two voices\,  blendi
 ng solo performances and duets through storytelling\,  warmth\,  and musica
 l connection. Asal Naimi -voice Daniel Kim- voice Ruby Roussain- Piano Fion
 a Varty- Bass Yuzi Sun- Drums\nhttps://jazzintoronto.ca/events/dante-paolo-
 and-friends/
URL:https://jazzintoronto.ca/events/dante-paolo-and-friends/
END:VEVENT
END:VCALENDAR