BEGIN:VCALENDAR
VERSION:2.0
PRODID:-//eventon.com NONSGML v1.0//EN
CALSCALE:GREGORIAN
METHOD:PUBLISH
BEGIN:VEVENT
UID:69e50dff9a38d
DTSTAMP:20260419T171647Z
DTSTART:20260402T223000Z
DTEND:20260403T004500Z
LOCATION:The Emmet Ray 924 College St\,  Toronto\,  ON M6H 1A4
SUMMARY:Asal Naimi & Daniel Kim
DESCRIPTION:A spring inspired vocal jazz set featuring two voices\,  blendi
 ng solo performances and duets through storytelling\,  warmth\,  and musica
 l connection. Asal Naimi -voice Daniel Kim- voice Ruby Roussain- Piano Fion
 a Varty- Bass Yuzi Sun- Drums\nhttps://jazzintoronto.ca/events/asal-naimi-d
 aniel-kim/
URL:https://jazzintoronto.ca/events/asal-naimi-daniel-kim/
END:VEVENT
END:VCALENDAR