BEGIN:VCALENDAR
VERSION:2.0
PRODID:-//eventon.com NONSGML v1.0//EN
CALSCALE:GREGORIAN
METHOD:PUBLISH
BEGIN:VEVENT
UID:69e526d6bab4b
DTSTAMP:20260419T190246Z
DTSTART:20260402T011500Z
DTEND:20260402T033000Z
LOCATION:The Emmet Ray 924 College St\,  Toronto\,  ON M6H 1A4
SUMMARY:Jake B-K Quartet
DESCRIPTION:The Jake B-K Group is a Toronto-based jazz ensemble focused on 
 blending on modern inclinations with traditional roots. Mattaus Gretzinger 
 – Alto Sax Jack Johnston – Double Bass Keith Barstow – Drums”\nhttp
 s://jazzintoronto.ca/events/jake-b-k-quartet/
URL:https://jazzintoronto.ca/events/jake-b-k-quartet/
END:VEVENT
END:VCALENDAR