BEGIN:VCALENDAR
VERSION:2.0
PRODID:-//eventon.com NONSGML v1.0//EN
CALSCALE:GREGORIAN
METHOD:PUBLISH
BEGIN:VEVENT
UID:69e4e8152fa97
DTSTAMP:20260419T143501Z
DTSTART:20260409T000000Z
DTEND:20260409T020000Z
LOCATION:Reid's Distillery 32 Logan Ave\,  Toronto\,  ON M4M 2M8
SUMMARY:Riverrun
DESCRIPTION:Tom Richards - Keys and composition Peter Lutek - Space Clarine
 t Scott Peterson - Bass Jake Oelrichs - Drums Riverrun is a collection of s
 ome of Toronto's strongest musical personalities\,  led by keyboardist and 
 composer Tom Richards. Cinematic\,  delving and disciplined\,  Riverrun cut
 s across stylistic boundaries and goes deep into[..]\nhttps://jazzintoronto
 .ca/events/riverrun-3/
URL:https://jazzintoronto.ca/events/riverrun-3/
END:VEVENT
END:VCALENDAR