BEGIN:VCALENDAR
VERSION:2.0
PRODID:-//eventon.com NONSGML v1.0//EN
CALSCALE:GREGORIAN
METHOD:PUBLISH
BEGIN:VEVENT
UID:69e4cfe21073a
DTSTAMP:20260419T125146Z
DTSTART:20260402T000000Z
DTEND:20260402T020000Z
LOCATION:Reid's Distillery 32 Logan Ave\,  Toronto\,  ON M4M 2M8
SUMMARY:Aria De Castro
DESCRIPTION:Aria De Castro is a passionate jazz vocalist\,  actor\,  and mu
 lti-instrumentalist based in Toronto. Known for her rich and versatile voic
 e\,  she takes inspiration from Ella Fitzgerald\,  Eydie Gormé\,  Keely Sm
 ith\,  Jo Stafford\,  and Peggy Lee to fuel her personal artistry. Along wi
 th her swingin' band\,  Aria effortlessly captures the[..]\nhttps://jazzint
 oronto.ca/events/aria-de-castro/
URL:https://jazzintoronto.ca/events/aria-de-castro/
END:VEVENT
END:VCALENDAR