BEGIN:VCALENDAR
VERSION:2.0
PRODID:-//eventon.com NONSGML v1.0//EN
CALSCALE:GREGORIAN
METHOD:PUBLISH
BEGIN:VEVENT
UID:69e4ff8b2239c
DTSTAMP:20260419T161507Z
DTSTART:20260415T010000Z
DTEND:20260415T010000Z
LOCATION:Reservoir Lounge 52 Wellington St E\,  Toronto\,  ON M5E 1C7
SUMMARY:Swing Era Tuesdays: Janice Hagan Sextet
DESCRIPTION:Swing Era Tuesdays: Janice Hagan Sextet\nhttps://jazzintoronto.
 ca/events/swing-era-tuesdays-janice-hagan-sextet/var/ri-3.l-L1
URL:https://jazzintoronto.ca/events/swing-era-tuesdays-janice-hagan-sextet/var/ri-3.l-L1
END:VEVENT
END:VCALENDAR