BEGIN:VCALENDAR
VERSION:2.0
PRODID:-//eventon.com NONSGML v1.0//EN
CALSCALE:GREGORIAN
METHOD:PUBLISH
BEGIN:VEVENT
UID:69e4cfa257e3f
DTSTAMP:20260419T125042Z
DTSTART:20260401T010000Z
DTEND:20260401T010000Z
LOCATION:Reservoir Lounge 52 Wellington St E\,  Toronto\,  ON M5E 1C7
SUMMARY:Swing Era Tuesdays: Janice Hagan Sextet
DESCRIPTION:Swing Era Tuesdays: Janice Hagan Sextet\nhttps://jazzintoronto.
 ca/events/swing-era-tuesdays-janice-hagan-sextet/var/ri-1.l-L1
URL:https://jazzintoronto.ca/events/swing-era-tuesdays-janice-hagan-sextet/var/ri-1.l-L1
END:VEVENT
END:VCALENDAR