BEGIN:VCALENDAR
VERSION:2.0
PRODID:-//eventon.com NONSGML v1.0//EN
CALSCALE:GREGORIAN
METHOD:PUBLISH
BEGIN:VEVENT
UID:69e57e0ec8ad3
DTSTAMP:20260420T011454Z
DTSTART:20260414T233000Z
DTEND:20260415T035900Z
LOCATION:Function Bar 2291 Yonge St\,  Toronto\,  ON M4P 2C6
SUMMARY:Open Mic Setup & Jam with Rising Musicians
DESCRIPTION:low pressure\,  good vibes\nhttps://jazzintoronto.ca/events/ope
 n-mic-setup-jam-with-rising-musicians/var/ri-7.l-L1
URL:https://jazzintoronto.ca/events/open-mic-setup-jam-with-rising-musicians/var/ri-7.l-L1
END:VEVENT
END:VCALENDAR