BEGIN:VCALENDAR
VERSION:2.0
PRODID:-//eventon.com NONSGML v1.0//EN
CALSCALE:GREGORIAN
METHOD:PUBLISH
BEGIN:VEVENT
UID:69e4cfe20e30c
DTSTAMP:20260419T125146Z
DTSTART:20260324T233000Z
DTEND:20260325T035900Z
LOCATION:Function Bar 2291 Yonge St\,  Toronto\,  ON M4P 2C6
SUMMARY:Open Mic Setup & Jam with Rising Musicians
DESCRIPTION:low pressure\,  good vibes\nhttps://jazzintoronto.ca/events/ope
 n-mic-setup-jam-with-rising-musicians/
URL:https://jazzintoronto.ca/events/open-mic-setup-jam-with-rising-musicians/
END:VEVENT
END:VCALENDAR