BEGIN:VCALENDAR
VERSION:2.0
PRODID:-//eventon.com NONSGML v1.0//EN
CALSCALE:GREGORIAN
METHOD:PUBLISH
BEGIN:VEVENT
UID:69e4e7dc9b06f
DTSTAMP:20260419T143404Z
DTSTART:20260530T221500Z
DTEND:20260531T023000Z
LOCATION:St. Barnabas on The Danforth Anglican Church 361 Danforth Ave\,  Toronto\,  ON M4K 1P1
SUMMARY:Saturday Night Swing ft. Taylor Maslin Band
DESCRIPTION:Upper Hall Enter the Upper Hall from Hampton Avenue\,  just sou
 th of Danforth. St. Barnabas on The Danforth Anglican Church 175 Hampton Av
 e\,  Toronto\,  ON M4K 2Z3\nhttps://jazzintoronto.ca/events/saturday-night-
 swing-ft-taylor-maslin-band/
URL:https://jazzintoronto.ca/events/saturday-night-swing-ft-taylor-maslin-band/
END:VEVENT
END:VCALENDAR