BEGIN:VCALENDAR
VERSION:2.0
PRODID:-//eventon.com NONSGML v1.0//EN
CALSCALE:GREGORIAN
METHOD:PUBLISH
BEGIN:VEVENT
UID:69e52a5d0c6f1
DTSTAMP:20260419T191749Z
DTSTART:20260426T150000Z
DTEND:20260426T180000Z
LOCATION:DeSotos Eatery 1079 St Clair Ave W\,  Toronto\,  ON M6E 1A6
SUMMARY:Sunday Jazz Brunch with Double A Jazz
DESCRIPTION:Elevate your weekend at Desotos Eatery. Join us every Sunday fo
 r our signature Jazz Brunch\,  featuring live performances by the acclaimed
  Double A Jazz ensemble. Immerse yourself in the smooth sounds of live jazz
  while enjoying our fresh\,  made-to-order comfort food and Italian-inspire
 d brunch classics.\nhttps://jazzintoronto.ca/events/sunday-jazz-brunch-with
 -double-a-jazz-copy/
URL:https://jazzintoronto.ca/events/sunday-jazz-brunch-with-double-a-jazz-copy/
END:VEVENT
END:VCALENDAR