BEGIN:VCALENDAR
VERSION:2.0
PRODID:-//eventon.com NONSGML v1.0//EN
CALSCALE:GREGORIAN
METHOD:PUBLISH
BEGIN:VEVENT
UID:69e5911237205
DTSTAMP:20260420T023602Z
DTSTART:20260530T000000Z
DTEND:20260530T020000Z
LOCATION:Old Mill 21 Old Mill Road Toronto\,  Ontario M8X1G5
SUMMARY:Fifth Element Jazz Quintet
DESCRIPTION:Experience an evening of profound musicality as the award-winni
 ng Fifth Element quintet returns to the historic Jazz Lounge. In classical 
 thought\,  the four elements are earth\,  water\,  air\,  and fire. For thi
 s ensemble\,  the “fifth element” is the spirit of jazz itself—captur
 ed in every note of their original arrangements. Drawing[..]\nhttps://jazzi
 ntoronto.ca/events/fifth-element-jazz-quintet/
URL:https://jazzintoronto.ca/events/fifth-element-jazz-quintet/
END:VEVENT
END:VCALENDAR