BEGIN:VCALENDAR
VERSION:2.0
PRODID:-//eventon.com NONSGML v1.0//EN
CALSCALE:GREGORIAN
METHOD:PUBLISH
BEGIN:VEVENT
UID:69e5acdc3b102
DTSTAMP:20260420T043436Z
DTSTART:20260523T000000Z
DTEND:20260523T020000Z
LOCATION:Old Mill 21 Old Mill Road Toronto\,  Ontario M8X1G5
SUMMARY:Alex Pangman
DESCRIPTION:⚜ Experience the vibrant soul of the 1930s and 40s with Alex 
 Pangman\,  a JUNO nominee and one of Canada’s most inspired voices in vin
 tage jazz. As the celebrated host of Swing Set on JAZZ.FM91\,  Alex is more
  than a vocalist—she is a storyteller who breathes “new life” into th
 e[..]\nhttps://jazzintoronto.ca/events/alex-pangman/
URL:https://jazzintoronto.ca/events/alex-pangman/
END:VEVENT
END:VCALENDAR