BEGIN:VCALENDAR
VERSION:2.0
PRODID:-//eventon.com NONSGML v1.0//EN
CALSCALE:GREGORIAN
METHOD:PUBLISH
BEGIN:VEVENT
UID:69e5c44f72df2
DTSTAMP:20260420T061439Z
DTSTART:20260517T000000Z
DTEND:20260517T020000Z
LOCATION:Old Mill 21 Old Mill Road Toronto\,  Ontario M8X1G5
SUMMARY:Soul of Motown
DESCRIPTION:Come feel the “The Soul of Motown”. Experience the sound an
 d the excitement of Motown\,  re-imagined by this youthful and energetic en
 semble. This stellar multi-media show features some of the most unique and 
 jaw-dropping singers around. Backed by an equally impressive and passionate
  band; this show will have you “Dancing[..]\nhttps://jazzintoronto.ca/eve
 nts/soul-of-motown/
URL:https://jazzintoronto.ca/events/soul-of-motown/
END:VEVENT
END:VCALENDAR