BEGIN:VCALENDAR
VERSION:2.0
PRODID:-//eventon.com NONSGML v1.0//EN
CALSCALE:GREGORIAN
METHOD:PUBLISH
BEGIN:VEVENT
UID:69ebfb3421450
DTSTAMP:20260424T232228Z
DTSTART:20260522T003000Z
DTEND:20260522T035900Z
LOCATION:Noonan's Pub 141 Danforth Ave\,  Toronto\,  ON M4K 1N2
SUMMARY:The Odd Country
DESCRIPTION:The Odd Country\nhttps://jazzintoronto.ca/events/the-odd-countr
 y-2/
URL:https://jazzintoronto.ca/events/the-odd-country-2/
END:VEVENT
END:VCALENDAR