BEGIN:VCALENDAR
VERSION:2.0
PRODID:-//eventon.com NONSGML v1.0//EN
CALSCALE:GREGORIAN
METHOD:PUBLISH
BEGIN:VEVENT
UID:69ebe9f01bf09
DTSTAMP:20260424T220848Z
DTSTART:20260417T003000Z
DTEND:20260417T035900Z
LOCATION:Noonan's Pub 141 Danforth Ave\,  Toronto\,  ON M4K 1N2
SUMMARY:Paul Reddick Band
DESCRIPTION:Paul Reddick Band\nhttps://jazzintoronto.ca/events/paul-reddick
 -3/
URL:https://jazzintoronto.ca/events/paul-reddick-3/
END:VEVENT
END:VCALENDAR