BEGIN:VCALENDAR
VERSION:2.0
PRODID:-//eventon.com NONSGML v1.0//EN
CALSCALE:GREGORIAN
METHOD:PUBLISH
BEGIN:VEVENT
UID:69ec337c9d0f2
DTSTAMP:20260425T032236Z
DTSTART:20260427T230000Z
DTEND:20260428T035900Z
LOCATION:Noonan's Pub 141 Danforth Ave\,  Toronto\,  ON M4K 1N2
SUMMARY:Open Stage
DESCRIPTION:Open Stage\nhttps://jazzintoronto.ca/events/open-stage/var/ri-5
 .l-L1
URL:https://jazzintoronto.ca/events/open-stage/var/ri-5.l-L1
END:VEVENT
END:VCALENDAR