BEGIN:VCALENDAR
VERSION:2.0
PRODID:-//eventon.com NONSGML v1.0//EN
CALSCALE:GREGORIAN
METHOD:PUBLISH
BEGIN:VEVENT
UID:69ec0d3a566c9
DTSTAMP:20260425T003922Z
DTSTART:20260413T230000Z
DTEND:20260414T035900Z
LOCATION:Noonan's Pub 141 Danforth Ave\,  Toronto\,  ON M4K 1N2
SUMMARY:Open Stage
DESCRIPTION:Open Stage\nhttps://jazzintoronto.ca/events/open-stage/var/ri-3
 .l-L1
URL:https://jazzintoronto.ca/events/open-stage/var/ri-3.l-L1
END:VEVENT
END:VCALENDAR