BEGIN:VCALENDAR
VERSION:2.0
PRODID:-//eventon.com NONSGML v1.0//EN
CALSCALE:GREGORIAN
METHOD:PUBLISH
BEGIN:VEVENT
UID:69ebd7c4b653f
DTSTAMP:20260424T205116Z
DTSTART:20260323T230000Z
DTEND:20260324T035900Z
LOCATION:Noonan's Pub 141 Danforth Ave\,  Toronto\,  ON M4K 1N2
SUMMARY:Open Stage
DESCRIPTION:Open Stage\nhttps://jazzintoronto.ca/events/open-stage/
URL:https://jazzintoronto.ca/events/open-stage/
END:VEVENT
END:VCALENDAR