BEGIN:VCALENDAR
VERSION:2.0
PRODID:-//eventon.com NONSGML v1.0//EN
CALSCALE:GREGORIAN
METHOD:PUBLISH
BEGIN:VEVENT
UID:69ebc2451bc10
DTSTAMP:20260424T191933Z
DTSTART:20260408T230000Z
DTEND:20260409T035900Z
LOCATION:Dina's Tavern 486 Spadina Ave.\,  Toronto\,  ON M5S 2H
SUMMARY:Portraitures // Ten Moon // Justin Orok
DESCRIPTION:DOORS AT 7PM\,  PWYC\nhttps://jazzintoronto.ca/events/portraitu
 res-ten-moon-justin-orok-2/
URL:https://jazzintoronto.ca/events/portraitures-ten-moon-justin-orok-2/
END:VEVENT
END:VCALENDAR