BEGIN:VCALENDAR
VERSION:2.0
PRODID:-//eventon.com NONSGML v1.0//EN
CALSCALE:GREGORIAN
METHOD:PUBLISH
BEGIN:VEVENT
UID:69ebaf288ad13
DTSTAMP:20260424T175800Z
DTSTART:20260406T233000Z
DTEND:20260407T035900Z
LOCATION:Dina's Tavern 486 Spadina Ave.\,  Toronto\,  ON M5S 2H
SUMMARY:Mx Lonely
DESCRIPTION:DOORS AT 730PM\,  TICKETS AVAILABLE HERE\nhttps://jazzintoronto
 .ca/events/mx-lonely-2/
URL:https://jazzintoronto.ca/events/mx-lonely-2/
END:VEVENT
END:VCALENDAR