BEGIN:VCALENDAR
VERSION:2.0
PRODID:-//eventon.com NONSGML v1.0//EN
CALSCALE:GREGORIAN
METHOD:PUBLISH
BEGIN:VEVENT
UID:69eb9af4b6a8e
DTSTAMP:20260424T163148Z
DTSTART:20260424T010000Z
DTEND:20260424T035900Z
LOCATION:Dina's Tavern 486 Spadina Ave.\,  Toronto\,  ON M5S 2H
SUMMARY:Easy Rider with Kel Bennett & The Bandits
DESCRIPTION:Doors @ 8\nhttps://jazzintoronto.ca/events/easy-rider-with-kel-
 bennett-the-bandits/
URL:https://jazzintoronto.ca/events/easy-rider-with-kel-bennett-the-bandits/
END:VEVENT
END:VCALENDAR