BEGIN:VCALENDAR
VERSION:2.0
PRODID:-//eventon.com NONSGML v1.0//EN
CALSCALE:GREGORIAN
METHOD:PUBLISH
BEGIN:VEVENT
UID:69ebaf4cc637c
DTSTAMP:20260424T175836Z
DTSTART:20260417T010000Z
DTEND:20260417T035900Z
LOCATION:Dina's Tavern 486 Spadina Ave.\,  Toronto\,  ON M5S 2H
SUMMARY:Easy Rider with Lori Yates & The Velvetinas
DESCRIPTION:Doors @ 8\nhttps://jazzintoronto.ca/events/easy-rider-with-lori
 -yates-the-velvetinas/
URL:https://jazzintoronto.ca/events/easy-rider-with-lori-yates-the-velvetinas/
END:VEVENT
END:VCALENDAR