BEGIN:VCALENDAR
VERSION:2.0
PRODID:-//eventon.com NONSGML v1.0//EN
CALSCALE:GREGORIAN
METHOD:PUBLISH
BEGIN:VEVENT
UID:69ebc7417fdce
DTSTAMP:20260424T194049Z
DTSTART:20260410T010000Z
DTEND:20260410T035900Z
LOCATION:Dina's Tavern 486 Spadina Ave.\,  Toronto\,  ON M5S 2H
SUMMARY:Easy Rider With Nicholas Campbell & The Metre Cheaters
DESCRIPTION:Doors @ 8\nhttps://jazzintoronto.ca/events/easy-rider-with-nich
 olas-campbell-the-metre-cheaters/
URL:https://jazzintoronto.ca/events/easy-rider-with-nicholas-campbell-the-metre-cheaters/
END:VEVENT
END:VCALENDAR