BEGIN:VCALENDAR
VERSION:2.0
PRODID:-//eventon.com NONSGML v1.0//EN
CALSCALE:GREGORIAN
METHOD:PUBLISH
BEGIN:VEVENT
UID:69ebd97c80322
DTSTAMP:20260424T205836Z
DTSTART:20260403T010000Z
DTEND:20260403T035900Z
LOCATION:Dina's Tavern 486 Spadina Ave.\,  Toronto\,  ON M5S 2H
SUMMARY:Easy Rider with the New World Warblers
DESCRIPTION:Doors @ 8\nhttps://jazzintoronto.ca/events/easy-rider-with-the-
 new-world-warblers/
URL:https://jazzintoronto.ca/events/easy-rider-with-the-new-world-warblers/
END:VEVENT
END:VCALENDAR