BEGIN:VCALENDAR
VERSION:2.0
PRODID:-//eventon.com NONSGML v1.0//EN
CALSCALE:GREGORIAN
METHOD:PUBLISH
BEGIN:VEVENT
UID:69ebe848807db
DTSTAMP:20260424T220144Z
DTSTART:20260507T003000Z
DTEND:20260507T035900Z
LOCATION:Dina's Tavern 486 Spadina Ave.\,  Toronto\,  ON M5S 2H
SUMMARY:Duke Street & Friends
DESCRIPTION:First Wednesday of every month. No cover\nhttps://jazzintoronto
 .ca/events/duke-street-friends-2/
URL:https://jazzintoronto.ca/events/duke-street-friends-2/
END:VEVENT
END:VCALENDAR