BEGIN:VCALENDAR
VERSION:2.0
PRODID:-//eventon.com NONSGML v1.0//EN
CALSCALE:GREGORIAN
METHOD:PUBLISH
BEGIN:VEVENT
UID:69ebf9f2226d6
DTSTAMP:20260424T231706Z
DTSTART:20260402T003000Z
DTEND:20260402T035900Z
LOCATION:Dina's Tavern 486 Spadina Ave.\,  Toronto\,  ON M5S 2H
SUMMARY:Duke Street & Friends
DESCRIPTION:First Wednesday of every month. No cover\nhttps://jazzintoronto
 .ca/events/duke-street-friends/
URL:https://jazzintoronto.ca/events/duke-street-friends/
END:VEVENT
END:VCALENDAR