BEGIN:VCALENDAR
VERSION:2.0
PRODID:-//eventon.com NONSGML v1.0//EN
CALSCALE:GREGORIAN
METHOD:PUBLISH
BEGIN:VEVENT
UID:69ec0cb801e00
DTSTAMP:20260425T003712Z
DTSTART:20260430T030000Z
DTEND:20260430T035900Z
LOCATION:Drom Taberna 458 Queen St W\,  Toronto\,  ON M5V 2A8
SUMMARY:Relay Jam
DESCRIPTION:Relay Jam\nhttps://jazzintoronto.ca/events/relay-jam-2/
URL:https://jazzintoronto.ca/events/relay-jam-2/
END:VEVENT
END:VCALENDAR