BEGIN:VCALENDAR
VERSION:2.0
PRODID:-//eventon.com NONSGML v1.0//EN
CALSCALE:GREGORIAN
METHOD:PUBLISH
BEGIN:VEVENT
UID:69ec226e13b0d
DTSTAMP:20260425T020950Z
DTSTART:20260429T230000Z
DTEND:20260430T035900Z
LOCATION:Drom Taberna 458 Queen St W\,  Toronto\,  ON M5V 2A8
SUMMARY:Jay Blues Trio
DESCRIPTION:Jay Blues Trio\nhttps://jazzintoronto.ca/events/jay-blues-trio-
 2/
URL:https://jazzintoronto.ca/events/jay-blues-trio-2/
END:VEVENT
END:VCALENDAR