BEGIN:VCALENDAR
VERSION:2.0
PRODID:-//eventon.com NONSGML v1.0//EN
CALSCALE:GREGORIAN
METHOD:PUBLISH
BEGIN:VEVENT
UID:69ec36d8087f3
DTSTAMP:20260425T033656Z
DTSTART:20260427T000000Z
DTEND:20260427T035900Z
LOCATION:Drom Taberna 458 Queen St W\,  Toronto\,  ON M5V 2A8
SUMMARY:Running Rivers
DESCRIPTION:Running Rivers is a Toronto band made up of three local musicia
 ns: Zeeshan on guitar\,  Abbas on tabla\,  and Prince on vocals/bass. Their
  music infuses the spirit of South Asian classical and folk traditions into
  a variety of musical styles\,  including alternative\,  rock\,  jazz\,  an
 d blues. Their writing explores the[..]\nhttps://jazzintoronto.ca/events/ru
 nning-rivers/
URL:https://jazzintoronto.ca/events/running-rivers/
END:VEVENT
END:VCALENDAR