BEGIN:VCALENDAR
VERSION:2.0
PRODID:-//eventon.com NONSGML v1.0//EN
CALSCALE:GREGORIAN
METHOD:PUBLISH
BEGIN:VEVENT
UID:69eca515ae2b9
DTSTAMP:20260425T112717Z
DTSTART:20260425T033000Z
DTEND:20260425T035900Z
LOCATION:Drom Taberna 458 Queen St W\,  Toronto\,  ON M5V 2A8
SUMMARY:The Humber College Cosmic Funk Ensemble
DESCRIPTION:The Humber College Cosmic Funk Ensemble is a collective of musi
 cians brought together by a shared commitment to groove\,  improvisation\, 
  and collaborative music making. The group draws inspiration from the count
 ercultural energy of 1970s funk and plays classic funk repertoire\,  as wel
 l as had collectively composed an original funk opera.\nhttps://jazzintoron
 to.ca/events/the-humber-college-cosmic-funk-ensemble/
URL:https://jazzintoronto.ca/events/the-humber-college-cosmic-funk-ensemble/
END:VEVENT
END:VCALENDAR