BEGIN:VCALENDAR
VERSION:2.0
PRODID:-//eventon.com NONSGML v1.0//EN
CALSCALE:GREGORIAN
METHOD:PUBLISH
BEGIN:VEVENT
UID:69ecbbff20d59
DTSTAMP:20260425T130503Z
DTSTART:20260425T003000Z
DTEND:20260425T035900Z
LOCATION:Drom Taberna 458 Queen St W\,  Toronto\,  ON M5V 2A8
SUMMARY:Al Qahwa
DESCRIPTION:Al Qahwa is Maryem Tollar on vocals\,  riqq (Arabic tambourine)
  and qanun (Arabic table harp); Ernie Tollar on wind instruments; Waleed Ab
 dulhamid on bass\,  vocals and percussion; and Naghmeh Farahmand on percuss
 ion.  For this concert they will be joined by special guest artists Patric
 k O'Reilly on guitar and Jaash Singh[..]\nhttps://jazzintoronto.ca/events/a
 l-qahwa/
URL:https://jazzintoronto.ca/events/al-qahwa/
END:VEVENT
END:VCALENDAR