BEGIN:VCALENDAR
VERSION:2.0
PRODID:-//eventon.com NONSGML v1.0//EN
CALSCALE:GREGORIAN
METHOD:PUBLISH
BEGIN:VEVENT
UID:69ecd4a53b60e
DTSTAMP:20260425T145013Z
DTSTART:20260424T220000Z
DTEND:20260425T035900Z
LOCATION:Drom Taberna 458 Queen St W\,  Toronto\,  ON M5V 2A8
SUMMARY:Demetrios Petsalakis
DESCRIPTION:Demetrios Petsalakis\nhttps://jazzintoronto.ca/events/demetrios
 -petsalakis/
URL:https://jazzintoronto.ca/events/demetrios-petsalakis/
END:VEVENT
END:VCALENDAR