BEGIN:VCALENDAR
VERSION:2.0
PRODID:-//eventon.com NONSGML v1.0//EN
CALSCALE:GREGORIAN
METHOD:PUBLISH
BEGIN:VEVENT
UID:69e50e65acdfa
DTSTAMP:20260419T171829Z
DTSTART:20260423T230000Z
DTEND:20260424T035900Z
LOCATION:Drom Taberna 458 Queen St W\,  Toronto\,  ON M5V 2A8
SUMMARY:Truliqa
DESCRIPTION:Truliqa\nhttps://jazzintoronto.ca/events/truliqa/
URL:https://jazzintoronto.ca/events/truliqa/
END:VEVENT
END:VCALENDAR