BEGIN:VCALENDAR
VERSION:2.0
PRODID:-//eventon.com NONSGML v1.0//EN
CALSCALE:GREGORIAN
METHOD:PUBLISH
BEGIN:VEVENT
UID:69e4f5dd9b2af
DTSTAMP:20260419T153349Z
DTSTART:20260423T030000Z
DTEND:20260423T035900Z
LOCATION:Drom Taberna 458 Queen St W\,  Toronto\,  ON M5V 2A8
SUMMARY:Dessert Chaos
DESCRIPTION:Eric St-Laurent and Jordana Talsky form the eclectic vocal lo
 oping guitar duo DESSERT CHAOS\,  based in Toronto\,  where they serve up 
 a unique blend of electronic pop infused with funk and jazz influences.\nht
 tps://jazzintoronto.ca/events/dessert-chaos/
URL:https://jazzintoronto.ca/events/dessert-chaos/
END:VEVENT
END:VCALENDAR