BEGIN:VCALENDAR
VERSION:2.0
PRODID:-//eventon.com NONSGML v1.0//EN
CALSCALE:GREGORIAN
METHOD:PUBLISH
BEGIN:VEVENT
UID:69e4dc0a24eb3
DTSTAMP:20260419T134338Z
DTSTART:20260420T030000Z
DTEND:20260420T035900Z
LOCATION:Drom Taberna 458 Queen St W\,  Toronto\,  ON M5V 2A8
SUMMARY:Petal Loop
DESCRIPTION:Monthly Ambient Jam hosted by Ray Sun\nhttps://jazzintoronto.ca
 /events/petal-loop/
URL:https://jazzintoronto.ca/events/petal-loop/
END:VEVENT
END:VCALENDAR