BEGIN:VCALENDAR
VERSION:2.0
PRODID:-//eventon.com NONSGML v1.0//EN
CALSCALE:GREGORIAN
METHOD:PUBLISH
BEGIN:VEVENT
UID:69e4c6f118302
DTSTAMP:20260419T121337Z
DTSTART:20260420T000000Z
DTEND:20260420T035900Z
LOCATION:Drom Taberna 458 Queen St W\,  Toronto\,  ON M5V 2A8
SUMMARY:SBP4
DESCRIPTION:SBP4 for the first ever concert in TORONTO!!! SBP4 (Samoe Bolsh
 oe Prostoe Chislo\,  “The Largest Prime Number”) is an indie band from 
 Saint Petersburg\,  Russia\,  now based in Berlin. With 15 studio albums un
 der their belt\,  their sound fuses electronic beats\,  African rhythms\,  
 funk guitar\,  and disco bass - all[..]\nhttps://jazzintoronto.ca/events/po
 tions/
URL:https://jazzintoronto.ca/events/potions/
END:VEVENT
END:VCALENDAR