BEGIN:VCALENDAR
VERSION:2.0
PRODID:-//eventon.com NONSGML v1.0//EN
CALSCALE:GREGORIAN
METHOD:PUBLISH
BEGIN:VEVENT
UID:69e4c7301f1ce
DTSTAMP:20260419T121440Z
DTSTART:20260419T063000Z
DTEND:20260419T080000Z
LOCATION:Drom Taberna 458 Queen St W\,  Toronto\,  ON M5V 2A8
SUMMARY:Duck Society
DESCRIPTION:Duck Society is a jazz fusion band based in Toronto\,  consisti
 ng of some of the city’s most prominent jazz musicians as well as up-and-
 coming players. The band plays all original music\,  with tight arrangement
 s and ample room for experimentation and improvisation. With every composit
 ion a story\,  the band aims to[..]\nhttps://jazzintoronto.ca/events/duck-s
 ociety/
URL:https://jazzintoronto.ca/events/duck-society/
END:VEVENT
END:VCALENDAR