BEGIN:VCALENDAR
VERSION:2.0
PRODID:-//eventon.com NONSGML v1.0//EN
CALSCALE:GREGORIAN
METHOD:PUBLISH
BEGIN:VEVENT
UID:69e4dcb9f0095
DTSTAMP:20260419T134633Z
DTSTART:20260419T003000Z
DTEND:20260419T035900Z
LOCATION:Drom Taberna 458 Queen St W\,  Toronto\,  ON M5V 2A8
SUMMARY:Marc Decho’s “Bom Começo”
DESCRIPTION:The latest project from acclaimed electric bassist and composer
  Marc Decho. This dynamic\,  multi-cultural ensemble brings to life an irre
 sistible blend of rhythm\,  harmony\,  and improvisation through all-origin
 al Afro-Brazilian Jazz works alongside fresh interpretations of tunes by le
 gendary Brazilian composers Marcos Valle\,  Antônio Carlos Jobim\,  and He
 rmeto Pascoal. With Bom[..]\nhttps://jazzintoronto.ca/events/marc-dechos-bo
 m-comeco/
URL:https://jazzintoronto.ca/events/marc-dechos-bom-comeco/
END:VEVENT
END:VCALENDAR